BEGIN:VCALENDAR
VERSION:2.0
PRODID:-//Lake Highlands Church - ECPv6.15.10//NONSGML v1.0//EN
CALSCALE:GREGORIAN
METHOD:PUBLISH
X-WR-CALNAME:Lake Highlands Church
X-ORIGINAL-URL:https://www.lakehighlandschurch.org
X-WR-CALDESC:Events for Lake Highlands Church
REFRESH-INTERVAL;VALUE=DURATION:PT1H
X-Robots-Tag:noindex
X-PUBLISHED-TTL:PT1H
BEGIN:VTIMEZONE
TZID:America/Chicago
BEGIN:DAYLIGHT
TZOFFSETFROM:-0600
TZOFFSETTO:-0500
TZNAME:CDT
DTSTART:20220313T080000
END:DAYLIGHT
BEGIN:STANDARD
TZOFFSETFROM:-0500
TZOFFSETTO:-0600
TZNAME:CST
DTSTART:20221106T070000
END:STANDARD
BEGIN:DAYLIGHT
TZOFFSETFROM:-0600
TZOFFSETTO:-0500
TZNAME:CDT
DTSTART:20230312T080000
END:DAYLIGHT
BEGIN:STANDARD
TZOFFSETFROM:-0500
TZOFFSETTO:-0600
TZNAME:CST
DTSTART:20231105T070000
END:STANDARD
BEGIN:DAYLIGHT
TZOFFSETFROM:-0600
TZOFFSETTO:-0500
TZNAME:CDT
DTSTART:20240310T080000
END:DAYLIGHT
BEGIN:STANDARD
TZOFFSETFROM:-0500
TZOFFSETTO:-0600
TZNAME:CST
DTSTART:20241103T070000
END:STANDARD
BEGIN:DAYLIGHT
TZOFFSETFROM:-0600
TZOFFSETTO:-0500
TZNAME:CDT
DTSTART:20250309T080000
END:DAYLIGHT
BEGIN:STANDARD
TZOFFSETFROM:-0500
TZOFFSETTO:-0600
TZNAME:CST
DTSTART:20251102T070000
END:STANDARD
END:VTIMEZONE
BEGIN:VEVENT
DTSTART;TZID=America/Chicago:20240107T104500
DTEND;TZID=America/Chicago:20240107T120000
DTSTAMP:20260424T164247
CREATED:20200404T160846Z
LAST-MODIFIED:20200404T160846Z
UID:331823-1704624300-1704628800@www.lakehighlandschurch.org
SUMMARY:Sunday Service
DESCRIPTION:Sunday Service on YouTube and Facebook Live or in-person!! \nJoin us in-person or join us on Facebook Live and YouTube Live this Sunday at 10:45 am! \nHow to watch LHChurch Online:\nFacebook and non-Facebook users: click here.\nNon-YouTube Users: click here.\nYouTube users: click here.
URL:https://www.lakehighlandschurch.org/event/sunday-service-2020-04-19-2024-01-07/
LOCATION:TX\, United States
CATEGORIES:Services
ATTACH;FMTTYPE=image/jpeg:https://www.lakehighlandschurch.org/wp-content/uploads/2020/04/Facebook-Live.jpg
ORGANIZER;CN="Lake Highlands Church":MAILTO:admin@lakehighlandschurch.org
END:VEVENT
BEGIN:VEVENT
DTSTART;TZID=America/Chicago:20231231T104500
DTEND;TZID=America/Chicago:20231231T120000
DTSTAMP:20260424T164247
CREATED:20200404T160846Z
LAST-MODIFIED:20200404T160846Z
UID:331821-1704019500-1704024000@www.lakehighlandschurch.org
SUMMARY:Sunday Service
DESCRIPTION:Sunday Service on YouTube and Facebook Live or in-person!! \nJoin us in-person or join us on Facebook Live and YouTube Live this Sunday at 10:45 am! \nHow to watch LHChurch Online:\nFacebook and non-Facebook users: click here.\nNon-YouTube Users: click here.\nYouTube users: click here.
URL:https://www.lakehighlandschurch.org/event/sunday-service-2020-04-19-2023-12-31/
LOCATION:TX\, United States
CATEGORIES:Services
ATTACH;FMTTYPE=image/jpeg:https://www.lakehighlandschurch.org/wp-content/uploads/2020/04/Facebook-Live.jpg
ORGANIZER;CN="Lake Highlands Church":MAILTO:admin@lakehighlandschurch.org
END:VEVENT
BEGIN:VEVENT
DTSTART;TZID=America/Chicago:20231224T104500
DTEND;TZID=America/Chicago:20231224T120000
DTSTAMP:20260424T164247
CREATED:20200404T160846Z
LAST-MODIFIED:20200404T160846Z
UID:331819-1703414700-1703419200@www.lakehighlandschurch.org
SUMMARY:Sunday Service
DESCRIPTION:Sunday Service on YouTube and Facebook Live or in-person!! \nJoin us in-person or join us on Facebook Live and YouTube Live this Sunday at 10:45 am! \nHow to watch LHChurch Online:\nFacebook and non-Facebook users: click here.\nNon-YouTube Users: click here.\nYouTube users: click here.
URL:https://www.lakehighlandschurch.org/event/sunday-service-2020-04-19-2023-12-24/
LOCATION:TX\, United States
CATEGORIES:Services
ATTACH;FMTTYPE=image/jpeg:https://www.lakehighlandschurch.org/wp-content/uploads/2020/04/Facebook-Live.jpg
ORGANIZER;CN="Lake Highlands Church":MAILTO:admin@lakehighlandschurch.org
END:VEVENT
BEGIN:VEVENT
DTSTART;TZID=America/Chicago:20231217T104500
DTEND;TZID=America/Chicago:20231217T120000
DTSTAMP:20260424T164247
CREATED:20200404T160846Z
LAST-MODIFIED:20200404T160846Z
UID:331817-1702809900-1702814400@www.lakehighlandschurch.org
SUMMARY:Sunday Service
DESCRIPTION:Sunday Service on YouTube and Facebook Live or in-person!! \nJoin us in-person or join us on Facebook Live and YouTube Live this Sunday at 10:45 am! \nHow to watch LHChurch Online:\nFacebook and non-Facebook users: click here.\nNon-YouTube Users: click here.\nYouTube users: click here.
URL:https://www.lakehighlandschurch.org/event/sunday-service-2020-04-19-2023-12-17/
LOCATION:TX\, United States
CATEGORIES:Services
ATTACH;FMTTYPE=image/jpeg:https://www.lakehighlandschurch.org/wp-content/uploads/2020/04/Facebook-Live.jpg
ORGANIZER;CN="Lake Highlands Church":MAILTO:admin@lakehighlandschurch.org
END:VEVENT
BEGIN:VEVENT
DTSTART;TZID=America/Chicago:20231210T104500
DTEND;TZID=America/Chicago:20231210T120000
DTSTAMP:20260424T164247
CREATED:20200404T160846Z
LAST-MODIFIED:20200404T160846Z
UID:331815-1702205100-1702209600@www.lakehighlandschurch.org
SUMMARY:Sunday Service
DESCRIPTION:Sunday Service on YouTube and Facebook Live or in-person!! \nJoin us in-person or join us on Facebook Live and YouTube Live this Sunday at 10:45 am! \nHow to watch LHChurch Online:\nFacebook and non-Facebook users: click here.\nNon-YouTube Users: click here.\nYouTube users: click here.
URL:https://www.lakehighlandschurch.org/event/sunday-service-2020-04-19-2023-12-10/
LOCATION:TX\, United States
CATEGORIES:Services
ATTACH;FMTTYPE=image/jpeg:https://www.lakehighlandschurch.org/wp-content/uploads/2020/04/Facebook-Live.jpg
ORGANIZER;CN="Lake Highlands Church":MAILTO:admin@lakehighlandschurch.org
END:VEVENT
BEGIN:VEVENT
DTSTART;TZID=America/Chicago:20231203T104500
DTEND;TZID=America/Chicago:20231203T120000
DTSTAMP:20260424T164247
CREATED:20200404T160846Z
LAST-MODIFIED:20200404T160846Z
UID:331813-1701600300-1701604800@www.lakehighlandschurch.org
SUMMARY:Sunday Service
DESCRIPTION:Sunday Service on YouTube and Facebook Live or in-person!! \nJoin us in-person or join us on Facebook Live and YouTube Live this Sunday at 10:45 am! \nHow to watch LHChurch Online:\nFacebook and non-Facebook users: click here.\nNon-YouTube Users: click here.\nYouTube users: click here.
URL:https://www.lakehighlandschurch.org/event/sunday-service-2020-04-19-2023-12-03/
LOCATION:TX\, United States
CATEGORIES:Services
ATTACH;FMTTYPE=image/jpeg:https://www.lakehighlandschurch.org/wp-content/uploads/2020/04/Facebook-Live.jpg
ORGANIZER;CN="Lake Highlands Church":MAILTO:admin@lakehighlandschurch.org
END:VEVENT
BEGIN:VEVENT
DTSTART;TZID=America/Chicago:20231126T104500
DTEND;TZID=America/Chicago:20231126T120000
DTSTAMP:20260424T164247
CREATED:20200404T160846Z
LAST-MODIFIED:20200404T160846Z
UID:331811-1700995500-1701000000@www.lakehighlandschurch.org
SUMMARY:Sunday Service
DESCRIPTION:Sunday Service on YouTube and Facebook Live or in-person!! \nJoin us in-person or join us on Facebook Live and YouTube Live this Sunday at 10:45 am! \nHow to watch LHChurch Online:\nFacebook and non-Facebook users: click here.\nNon-YouTube Users: click here.\nYouTube users: click here.
URL:https://www.lakehighlandschurch.org/event/sunday-service-2020-04-19-2023-11-26/
LOCATION:TX\, United States
CATEGORIES:Services
ATTACH;FMTTYPE=image/jpeg:https://www.lakehighlandschurch.org/wp-content/uploads/2020/04/Facebook-Live.jpg
ORGANIZER;CN="Lake Highlands Church":MAILTO:admin@lakehighlandschurch.org
END:VEVENT
BEGIN:VEVENT
DTSTART;TZID=America/Chicago:20231119T104500
DTEND;TZID=America/Chicago:20231119T120000
DTSTAMP:20260424T164247
CREATED:20200404T160846Z
LAST-MODIFIED:20200404T160846Z
UID:331809-1700390700-1700395200@www.lakehighlandschurch.org
SUMMARY:Sunday Service
DESCRIPTION:Sunday Service on YouTube and Facebook Live or in-person!! \nJoin us in-person or join us on Facebook Live and YouTube Live this Sunday at 10:45 am! \nHow to watch LHChurch Online:\nFacebook and non-Facebook users: click here.\nNon-YouTube Users: click here.\nYouTube users: click here.
URL:https://www.lakehighlandschurch.org/event/sunday-service-2020-04-19-2023-11-19/
LOCATION:TX\, United States
CATEGORIES:Services
ATTACH;FMTTYPE=image/jpeg:https://www.lakehighlandschurch.org/wp-content/uploads/2020/04/Facebook-Live.jpg
ORGANIZER;CN="Lake Highlands Church":MAILTO:admin@lakehighlandschurch.org
END:VEVENT
BEGIN:VEVENT
DTSTART;TZID=America/Chicago:20231112T104500
DTEND;TZID=America/Chicago:20231112T120000
DTSTAMP:20260424T164247
CREATED:20200404T160846Z
LAST-MODIFIED:20200404T160846Z
UID:331807-1699785900-1699790400@www.lakehighlandschurch.org
SUMMARY:Sunday Service
DESCRIPTION:Sunday Service on YouTube and Facebook Live or in-person!! \nJoin us in-person or join us on Facebook Live and YouTube Live this Sunday at 10:45 am! \nHow to watch LHChurch Online:\nFacebook and non-Facebook users: click here.\nNon-YouTube Users: click here.\nYouTube users: click here.
URL:https://www.lakehighlandschurch.org/event/sunday-service-2020-04-19-2023-11-12/
LOCATION:TX\, United States
CATEGORIES:Services
ATTACH;FMTTYPE=image/jpeg:https://www.lakehighlandschurch.org/wp-content/uploads/2020/04/Facebook-Live.jpg
ORGANIZER;CN="Lake Highlands Church":MAILTO:admin@lakehighlandschurch.org
END:VEVENT
BEGIN:VEVENT
DTSTART;TZID=America/Chicago:20231105T104500
DTEND;TZID=America/Chicago:20231105T120000
DTSTAMP:20260424T164247
CREATED:20200404T160846Z
LAST-MODIFIED:20200404T160846Z
UID:331805-1699181100-1699185600@www.lakehighlandschurch.org
SUMMARY:Sunday Service
DESCRIPTION:Sunday Service on YouTube and Facebook Live or in-person!! \nJoin us in-person or join us on Facebook Live and YouTube Live this Sunday at 10:45 am! \nHow to watch LHChurch Online:\nFacebook and non-Facebook users: click here.\nNon-YouTube Users: click here.\nYouTube users: click here.
URL:https://www.lakehighlandschurch.org/event/sunday-service-2020-04-19-2023-11-05/
LOCATION:TX\, United States
CATEGORIES:Services
ATTACH;FMTTYPE=image/jpeg:https://www.lakehighlandschurch.org/wp-content/uploads/2020/04/Facebook-Live.jpg
ORGANIZER;CN="Lake Highlands Church":MAILTO:admin@lakehighlandschurch.org
END:VEVENT
BEGIN:VEVENT
DTSTART;TZID=America/Chicago:20231029T104500
DTEND;TZID=America/Chicago:20231029T120000
DTSTAMP:20260424T164247
CREATED:20200404T160846Z
LAST-MODIFIED:20200404T160846Z
UID:331803-1698576300-1698580800@www.lakehighlandschurch.org
SUMMARY:Sunday Service
DESCRIPTION:Sunday Service on YouTube and Facebook Live or in-person!! \nJoin us in-person or join us on Facebook Live and YouTube Live this Sunday at 10:45 am! \nHow to watch LHChurch Online:\nFacebook and non-Facebook users: click here.\nNon-YouTube Users: click here.\nYouTube users: click here.
URL:https://www.lakehighlandschurch.org/event/sunday-service-2020-04-19-2023-10-29/
LOCATION:TX\, United States
CATEGORIES:Services
ATTACH;FMTTYPE=image/jpeg:https://www.lakehighlandschurch.org/wp-content/uploads/2020/04/Facebook-Live.jpg
ORGANIZER;CN="Lake Highlands Church":MAILTO:admin@lakehighlandschurch.org
END:VEVENT
BEGIN:VEVENT
DTSTART;TZID=America/Chicago:20231022T104500
DTEND;TZID=America/Chicago:20231022T120000
DTSTAMP:20260424T164247
CREATED:20200404T160846Z
LAST-MODIFIED:20200404T160846Z
UID:331801-1697971500-1697976000@www.lakehighlandschurch.org
SUMMARY:Sunday Service
DESCRIPTION:Sunday Service on YouTube and Facebook Live or in-person!! \nJoin us in-person or join us on Facebook Live and YouTube Live this Sunday at 10:45 am! \nHow to watch LHChurch Online:\nFacebook and non-Facebook users: click here.\nNon-YouTube Users: click here.\nYouTube users: click here.
URL:https://www.lakehighlandschurch.org/event/sunday-service-2020-04-19-2023-10-22/
LOCATION:TX\, United States
CATEGORIES:Services
ATTACH;FMTTYPE=image/jpeg:https://www.lakehighlandschurch.org/wp-content/uploads/2020/04/Facebook-Live.jpg
ORGANIZER;CN="Lake Highlands Church":MAILTO:admin@lakehighlandschurch.org
END:VEVENT
BEGIN:VEVENT
DTSTART;TZID=America/Chicago:20231015T104500
DTEND;TZID=America/Chicago:20231015T120000
DTSTAMP:20260424T164247
CREATED:20200404T160846Z
LAST-MODIFIED:20200404T160846Z
UID:331799-1697366700-1697371200@www.lakehighlandschurch.org
SUMMARY:Sunday Service
DESCRIPTION:Sunday Service on YouTube and Facebook Live or in-person!! \nJoin us in-person or join us on Facebook Live and YouTube Live this Sunday at 10:45 am! \nHow to watch LHChurch Online:\nFacebook and non-Facebook users: click here.\nNon-YouTube Users: click here.\nYouTube users: click here.
URL:https://www.lakehighlandschurch.org/event/sunday-service-2020-04-19-2023-10-15/
LOCATION:TX\, United States
CATEGORIES:Services
ATTACH;FMTTYPE=image/jpeg:https://www.lakehighlandschurch.org/wp-content/uploads/2020/04/Facebook-Live.jpg
ORGANIZER;CN="Lake Highlands Church":MAILTO:admin@lakehighlandschurch.org
END:VEVENT
BEGIN:VEVENT
DTSTART;TZID=America/Chicago:20231008T104500
DTEND;TZID=America/Chicago:20231008T120000
DTSTAMP:20260424T164247
CREATED:20200404T160846Z
LAST-MODIFIED:20200404T160846Z
UID:331797-1696761900-1696766400@www.lakehighlandschurch.org
SUMMARY:Sunday Service
DESCRIPTION:Sunday Service on YouTube and Facebook Live or in-person!! \nJoin us in-person or join us on Facebook Live and YouTube Live this Sunday at 10:45 am! \nHow to watch LHChurch Online:\nFacebook and non-Facebook users: click here.\nNon-YouTube Users: click here.\nYouTube users: click here.
URL:https://www.lakehighlandschurch.org/event/sunday-service-2020-04-19-2023-10-08/
LOCATION:TX\, United States
CATEGORIES:Services
ATTACH;FMTTYPE=image/jpeg:https://www.lakehighlandschurch.org/wp-content/uploads/2020/04/Facebook-Live.jpg
ORGANIZER;CN="Lake Highlands Church":MAILTO:admin@lakehighlandschurch.org
END:VEVENT
BEGIN:VEVENT
DTSTART;TZID=America/Chicago:20231001T104500
DTEND;TZID=America/Chicago:20231001T120000
DTSTAMP:20260424T164247
CREATED:20200404T160846Z
LAST-MODIFIED:20200404T160846Z
UID:331795-1696157100-1696161600@www.lakehighlandschurch.org
SUMMARY:Sunday Service
DESCRIPTION:Sunday Service on YouTube and Facebook Live or in-person!! \nJoin us in-person or join us on Facebook Live and YouTube Live this Sunday at 10:45 am! \nHow to watch LHChurch Online:\nFacebook and non-Facebook users: click here.\nNon-YouTube Users: click here.\nYouTube users: click here.
URL:https://www.lakehighlandschurch.org/event/sunday-service-2020-04-19-2023-10-01/
LOCATION:TX\, United States
CATEGORIES:Services
ATTACH;FMTTYPE=image/jpeg:https://www.lakehighlandschurch.org/wp-content/uploads/2020/04/Facebook-Live.jpg
ORGANIZER;CN="Lake Highlands Church":MAILTO:admin@lakehighlandschurch.org
END:VEVENT
BEGIN:VEVENT
DTSTART;TZID=America/Chicago:20230924T104500
DTEND;TZID=America/Chicago:20230924T120000
DTSTAMP:20260424T164247
CREATED:20200404T160846Z
LAST-MODIFIED:20200404T160846Z
UID:331793-1695552300-1695556800@www.lakehighlandschurch.org
SUMMARY:Sunday Service
DESCRIPTION:Sunday Service on YouTube and Facebook Live or in-person!! \nJoin us in-person or join us on Facebook Live and YouTube Live this Sunday at 10:45 am! \nHow to watch LHChurch Online:\nFacebook and non-Facebook users: click here.\nNon-YouTube Users: click here.\nYouTube users: click here.
URL:https://www.lakehighlandschurch.org/event/sunday-service-2020-04-19-2023-09-24/
LOCATION:TX\, United States
CATEGORIES:Services
ATTACH;FMTTYPE=image/jpeg:https://www.lakehighlandschurch.org/wp-content/uploads/2020/04/Facebook-Live.jpg
ORGANIZER;CN="Lake Highlands Church":MAILTO:admin@lakehighlandschurch.org
END:VEVENT
BEGIN:VEVENT
DTSTART;TZID=America/Chicago:20230917T104500
DTEND;TZID=America/Chicago:20230917T120000
DTSTAMP:20260424T164247
CREATED:20200404T160846Z
LAST-MODIFIED:20200404T160846Z
UID:331789-1694947500-1694952000@www.lakehighlandschurch.org
SUMMARY:Sunday Service
DESCRIPTION:Sunday Service on YouTube and Facebook Live or in-person!! \nJoin us in-person or join us on Facebook Live and YouTube Live this Sunday at 10:45 am! \nHow to watch LHChurch Online:\nFacebook and non-Facebook users: click here.\nNon-YouTube Users: click here.\nYouTube users: click here.
URL:https://www.lakehighlandschurch.org/event/sunday-service-2020-04-19-2023-09-17/
LOCATION:TX\, United States
CATEGORIES:Services
ATTACH;FMTTYPE=image/jpeg:https://www.lakehighlandschurch.org/wp-content/uploads/2020/04/Facebook-Live.jpg
ORGANIZER;CN="Lake Highlands Church":MAILTO:admin@lakehighlandschurch.org
END:VEVENT
BEGIN:VEVENT
DTSTART;TZID=America/Chicago:20230910T104500
DTEND;TZID=America/Chicago:20230910T120000
DTSTAMP:20260424T164247
CREATED:20200404T160846Z
LAST-MODIFIED:20200404T160846Z
UID:331784-1694342700-1694347200@www.lakehighlandschurch.org
SUMMARY:Sunday Service
DESCRIPTION:Sunday Service on YouTube and Facebook Live or in-person!! \nJoin us in-person or join us on Facebook Live and YouTube Live this Sunday at 10:45 am! \nHow to watch LHChurch Online:\nFacebook and non-Facebook users: click here.\nNon-YouTube Users: click here.\nYouTube users: click here.
URL:https://www.lakehighlandschurch.org/event/sunday-service-2020-04-19-2023-09-10/
LOCATION:TX\, United States
CATEGORIES:Services
ATTACH;FMTTYPE=image/jpeg:https://www.lakehighlandschurch.org/wp-content/uploads/2020/04/Facebook-Live.jpg
ORGANIZER;CN="Lake Highlands Church":MAILTO:admin@lakehighlandschurch.org
END:VEVENT
BEGIN:VEVENT
DTSTART;TZID=America/Chicago:20230903T104500
DTEND;TZID=America/Chicago:20230903T120000
DTSTAMP:20260424T164247
CREATED:20200404T160846Z
LAST-MODIFIED:20200404T160846Z
UID:331782-1693737900-1693742400@www.lakehighlandschurch.org
SUMMARY:Sunday Service
DESCRIPTION:Sunday Service on YouTube and Facebook Live or in-person!! \nJoin us in-person or join us on Facebook Live and YouTube Live this Sunday at 10:45 am! \nHow to watch LHChurch Online:\nFacebook and non-Facebook users: click here.\nNon-YouTube Users: click here.\nYouTube users: click here.
URL:https://www.lakehighlandschurch.org/event/sunday-service-2020-04-19-2023-09-03/
LOCATION:TX\, United States
CATEGORIES:Services
ATTACH;FMTTYPE=image/jpeg:https://www.lakehighlandschurch.org/wp-content/uploads/2020/04/Facebook-Live.jpg
ORGANIZER;CN="Lake Highlands Church":MAILTO:admin@lakehighlandschurch.org
END:VEVENT
BEGIN:VEVENT
DTSTART;TZID=America/Chicago:20230827T104500
DTEND;TZID=America/Chicago:20230827T120000
DTSTAMP:20260424T164247
CREATED:20200404T160846Z
LAST-MODIFIED:20200404T160846Z
UID:331764-1693133100-1693137600@www.lakehighlandschurch.org
SUMMARY:Sunday Service
DESCRIPTION:Sunday Service on YouTube and Facebook Live or in-person!! \nJoin us in-person or join us on Facebook Live and YouTube Live this Sunday at 10:45 am! \nHow to watch LHChurch Online:\nFacebook and non-Facebook users: click here.\nNon-YouTube Users: click here.\nYouTube users: click here.
URL:https://www.lakehighlandschurch.org/event/sunday-service-2020-04-19-2023-08-27/
LOCATION:TX\, United States
CATEGORIES:Services
ATTACH;FMTTYPE=image/jpeg:https://www.lakehighlandschurch.org/wp-content/uploads/2020/04/Facebook-Live.jpg
ORGANIZER;CN="Lake Highlands Church":MAILTO:admin@lakehighlandschurch.org
END:VEVENT
BEGIN:VEVENT
DTSTART;TZID=America/Chicago:20230820T104500
DTEND;TZID=America/Chicago:20230820T120000
DTSTAMP:20260424T164247
CREATED:20200404T160846Z
LAST-MODIFIED:20200404T160846Z
UID:331762-1692528300-1692532800@www.lakehighlandschurch.org
SUMMARY:Sunday Service
DESCRIPTION:Sunday Service on YouTube and Facebook Live or in-person!! \nJoin us in-person or join us on Facebook Live and YouTube Live this Sunday at 10:45 am! \nHow to watch LHChurch Online:\nFacebook and non-Facebook users: click here.\nNon-YouTube Users: click here.\nYouTube users: click here.
URL:https://www.lakehighlandschurch.org/event/sunday-service-2020-04-19-2023-08-20/
LOCATION:TX\, United States
CATEGORIES:Services
ATTACH;FMTTYPE=image/jpeg:https://www.lakehighlandschurch.org/wp-content/uploads/2020/04/Facebook-Live.jpg
ORGANIZER;CN="Lake Highlands Church":MAILTO:admin@lakehighlandschurch.org
END:VEVENT
BEGIN:VEVENT
DTSTART;TZID=America/Chicago:20230813T104500
DTEND;TZID=America/Chicago:20230813T120000
DTSTAMP:20260424T164247
CREATED:20200404T160846Z
LAST-MODIFIED:20200404T160846Z
UID:331760-1691923500-1691928000@www.lakehighlandschurch.org
SUMMARY:Sunday Service
DESCRIPTION:Sunday Service on YouTube and Facebook Live or in-person!! \nJoin us in-person or join us on Facebook Live and YouTube Live this Sunday at 10:45 am! \nHow to watch LHChurch Online:\nFacebook and non-Facebook users: click here.\nNon-YouTube Users: click here.\nYouTube users: click here.
URL:https://www.lakehighlandschurch.org/event/sunday-service-2020-04-19-2023-08-13/
LOCATION:TX\, United States
CATEGORIES:Services
ATTACH;FMTTYPE=image/jpeg:https://www.lakehighlandschurch.org/wp-content/uploads/2020/04/Facebook-Live.jpg
ORGANIZER;CN="Lake Highlands Church":MAILTO:admin@lakehighlandschurch.org
END:VEVENT
BEGIN:VEVENT
DTSTART;TZID=America/Chicago:20230806T104500
DTEND;TZID=America/Chicago:20230806T120000
DTSTAMP:20260424T164247
CREATED:20200404T160846Z
LAST-MODIFIED:20200404T160846Z
UID:331758-1691318700-1691323200@www.lakehighlandschurch.org
SUMMARY:Sunday Service
DESCRIPTION:Sunday Service on YouTube and Facebook Live or in-person!! \nJoin us in-person or join us on Facebook Live and YouTube Live this Sunday at 10:45 am! \nHow to watch LHChurch Online:\nFacebook and non-Facebook users: click here.\nNon-YouTube Users: click here.\nYouTube users: click here.
URL:https://www.lakehighlandschurch.org/event/sunday-service-2020-04-19-2023-08-06/
LOCATION:TX\, United States
CATEGORIES:Services
ATTACH;FMTTYPE=image/jpeg:https://www.lakehighlandschurch.org/wp-content/uploads/2020/04/Facebook-Live.jpg
ORGANIZER;CN="Lake Highlands Church":MAILTO:admin@lakehighlandschurch.org
END:VEVENT
BEGIN:VEVENT
DTSTART;TZID=America/Chicago:20230730T104500
DTEND;TZID=America/Chicago:20230730T120000
DTSTAMP:20260424T164247
CREATED:20200404T160846Z
LAST-MODIFIED:20200404T160846Z
UID:331756-1690713900-1690718400@www.lakehighlandschurch.org
SUMMARY:Sunday Service
DESCRIPTION:Sunday Service on YouTube and Facebook Live or in-person!! \nJoin us in-person or join us on Facebook Live and YouTube Live this Sunday at 10:45 am! \nHow to watch LHChurch Online:\nFacebook and non-Facebook users: click here.\nNon-YouTube Users: click here.\nYouTube users: click here.
URL:https://www.lakehighlandschurch.org/event/sunday-service-2020-04-19-2023-07-30/
LOCATION:TX\, United States
CATEGORIES:Services
ATTACH;FMTTYPE=image/jpeg:https://www.lakehighlandschurch.org/wp-content/uploads/2020/04/Facebook-Live.jpg
ORGANIZER;CN="Lake Highlands Church":MAILTO:admin@lakehighlandschurch.org
END:VEVENT
BEGIN:VEVENT
DTSTART;TZID=America/Chicago:20230723T104500
DTEND;TZID=America/Chicago:20230723T120000
DTSTAMP:20260424T164247
CREATED:20200404T160846Z
LAST-MODIFIED:20200404T160846Z
UID:331753-1690109100-1690113600@www.lakehighlandschurch.org
SUMMARY:Sunday Service
DESCRIPTION:Sunday Service on YouTube and Facebook Live or in-person!! \nJoin us in-person or join us on Facebook Live and YouTube Live this Sunday at 10:45 am! \nHow to watch LHChurch Online:\nFacebook and non-Facebook users: click here.\nNon-YouTube Users: click here.\nYouTube users: click here.
URL:https://www.lakehighlandschurch.org/event/sunday-service-2020-04-19-2023-07-23/
LOCATION:TX\, United States
CATEGORIES:Services
ATTACH;FMTTYPE=image/jpeg:https://www.lakehighlandschurch.org/wp-content/uploads/2020/04/Facebook-Live.jpg
ORGANIZER;CN="Lake Highlands Church":MAILTO:admin@lakehighlandschurch.org
END:VEVENT
BEGIN:VEVENT
DTSTART;TZID=America/Chicago:20230716T104500
DTEND;TZID=America/Chicago:20230716T120000
DTSTAMP:20260424T164247
CREATED:20200404T160846Z
LAST-MODIFIED:20200404T160846Z
UID:331751-1689504300-1689508800@www.lakehighlandschurch.org
SUMMARY:Sunday Service
DESCRIPTION:Sunday Service on YouTube and Facebook Live or in-person!! \nJoin us in-person or join us on Facebook Live and YouTube Live this Sunday at 10:45 am! \nHow to watch LHChurch Online:\nFacebook and non-Facebook users: click here.\nNon-YouTube Users: click here.\nYouTube users: click here.
URL:https://www.lakehighlandschurch.org/event/sunday-service-2020-04-19-2023-07-16/
LOCATION:TX\, United States
CATEGORIES:Services
ATTACH;FMTTYPE=image/jpeg:https://www.lakehighlandschurch.org/wp-content/uploads/2020/04/Facebook-Live.jpg
ORGANIZER;CN="Lake Highlands Church":MAILTO:admin@lakehighlandschurch.org
END:VEVENT
BEGIN:VEVENT
DTSTART;TZID=America/Chicago:20230709T104500
DTEND;TZID=America/Chicago:20230709T120000
DTSTAMP:20260424T164247
CREATED:20200404T160846Z
LAST-MODIFIED:20200404T160846Z
UID:331748-1688899500-1688904000@www.lakehighlandschurch.org
SUMMARY:Sunday Service
DESCRIPTION:Sunday Service on YouTube and Facebook Live or in-person!! \nJoin us in-person or join us on Facebook Live and YouTube Live this Sunday at 10:45 am! \nHow to watch LHChurch Online:\nFacebook and non-Facebook users: click here.\nNon-YouTube Users: click here.\nYouTube users: click here.
URL:https://www.lakehighlandschurch.org/event/sunday-service-2020-04-19-2023-07-09/
LOCATION:TX\, United States
CATEGORIES:Services
ATTACH;FMTTYPE=image/jpeg:https://www.lakehighlandschurch.org/wp-content/uploads/2020/04/Facebook-Live.jpg
ORGANIZER;CN="Lake Highlands Church":MAILTO:admin@lakehighlandschurch.org
END:VEVENT
BEGIN:VEVENT
DTSTART;TZID=America/Chicago:20230702T104500
DTEND;TZID=America/Chicago:20230702T120000
DTSTAMP:20260424T164247
CREATED:20200404T160846Z
LAST-MODIFIED:20200404T160846Z
UID:331745-1688294700-1688299200@www.lakehighlandschurch.org
SUMMARY:Sunday Service
DESCRIPTION:Sunday Service on YouTube and Facebook Live or in-person!! \nJoin us in-person or join us on Facebook Live and YouTube Live this Sunday at 10:45 am! \nHow to watch LHChurch Online:\nFacebook and non-Facebook users: click here.\nNon-YouTube Users: click here.\nYouTube users: click here.
URL:https://www.lakehighlandschurch.org/event/sunday-service-2020-04-19-2023-07-02/
LOCATION:TX\, United States
CATEGORIES:Services
ATTACH;FMTTYPE=image/jpeg:https://www.lakehighlandschurch.org/wp-content/uploads/2020/04/Facebook-Live.jpg
ORGANIZER;CN="Lake Highlands Church":MAILTO:admin@lakehighlandschurch.org
END:VEVENT
BEGIN:VEVENT
DTSTART;TZID=America/Chicago:20230625T104500
DTEND;TZID=America/Chicago:20230625T120000
DTSTAMP:20260424T164247
CREATED:20200404T160846Z
LAST-MODIFIED:20200404T160846Z
UID:331743-1687689900-1687694400@www.lakehighlandschurch.org
SUMMARY:Sunday Service
DESCRIPTION:Sunday Service on YouTube and Facebook Live or in-person!! \nJoin us in-person or join us on Facebook Live and YouTube Live this Sunday at 10:45 am! \nHow to watch LHChurch Online:\nFacebook and non-Facebook users: click here.\nNon-YouTube Users: click here.\nYouTube users: click here.
URL:https://www.lakehighlandschurch.org/event/sunday-service-2020-04-19-2023-06-25/
LOCATION:TX\, United States
CATEGORIES:Services
ATTACH;FMTTYPE=image/jpeg:https://www.lakehighlandschurch.org/wp-content/uploads/2020/04/Facebook-Live.jpg
ORGANIZER;CN="Lake Highlands Church":MAILTO:admin@lakehighlandschurch.org
END:VEVENT
BEGIN:VEVENT
DTSTART;TZID=America/Chicago:20230618T104500
DTEND;TZID=America/Chicago:20230618T120000
DTSTAMP:20260424T164247
CREATED:20200404T160846Z
LAST-MODIFIED:20200404T160846Z
UID:331741-1687085100-1687089600@www.lakehighlandschurch.org
SUMMARY:Sunday Service
DESCRIPTION:Sunday Service on YouTube and Facebook Live or in-person!! \nJoin us in-person or join us on Facebook Live and YouTube Live this Sunday at 10:45 am! \nHow to watch LHChurch Online:\nFacebook and non-Facebook users: click here.\nNon-YouTube Users: click here.\nYouTube users: click here.
URL:https://www.lakehighlandschurch.org/event/sunday-service-2020-04-19-2023-06-18/
LOCATION:TX\, United States
CATEGORIES:Services
ATTACH;FMTTYPE=image/jpeg:https://www.lakehighlandschurch.org/wp-content/uploads/2020/04/Facebook-Live.jpg
ORGANIZER;CN="Lake Highlands Church":MAILTO:admin@lakehighlandschurch.org
END:VEVENT
END:VCALENDAR