BEGIN:VCALENDAR
VERSION:2.0
PRODID:-//Lake Highlands Church - ECPv6.15.10//NONSGML v1.0//EN
CALSCALE:GREGORIAN
METHOD:PUBLISH
X-WR-CALNAME:Lake Highlands Church
X-ORIGINAL-URL:https://www.lakehighlandschurch.org
X-WR-CALDESC:Events for Lake Highlands Church
REFRESH-INTERVAL;VALUE=DURATION:PT1H
X-Robots-Tag:noindex
X-PUBLISHED-TTL:PT1H
BEGIN:VTIMEZONE
TZID:America/Chicago
BEGIN:DAYLIGHT
TZOFFSETFROM:-0600
TZOFFSETTO:-0500
TZNAME:CDT
DTSTART:20210314T080000
END:DAYLIGHT
BEGIN:STANDARD
TZOFFSETFROM:-0500
TZOFFSETTO:-0600
TZNAME:CST
DTSTART:20211107T070000
END:STANDARD
BEGIN:DAYLIGHT
TZOFFSETFROM:-0600
TZOFFSETTO:-0500
TZNAME:CDT
DTSTART:20220313T080000
END:DAYLIGHT
BEGIN:STANDARD
TZOFFSETFROM:-0500
TZOFFSETTO:-0600
TZNAME:CST
DTSTART:20221106T070000
END:STANDARD
BEGIN:DAYLIGHT
TZOFFSETFROM:-0600
TZOFFSETTO:-0500
TZNAME:CDT
DTSTART:20230312T080000
END:DAYLIGHT
BEGIN:STANDARD
TZOFFSETFROM:-0500
TZOFFSETTO:-0600
TZNAME:CST
DTSTART:20231105T070000
END:STANDARD
BEGIN:DAYLIGHT
TZOFFSETFROM:-0600
TZOFFSETTO:-0500
TZNAME:CDT
DTSTART:20240310T080000
END:DAYLIGHT
BEGIN:STANDARD
TZOFFSETFROM:-0500
TZOFFSETTO:-0600
TZNAME:CST
DTSTART:20241103T070000
END:STANDARD
END:VTIMEZONE
BEGIN:VEVENT
DTSTART;TZID=America/Chicago:20230402T104500
DTEND;TZID=America/Chicago:20230402T120000
DTSTAMP:20260424T224359
CREATED:20200404T160846Z
LAST-MODIFIED:20200404T160846Z
UID:331718-1680432300-1680436800@www.lakehighlandschurch.org
SUMMARY:Sunday Service
DESCRIPTION:Sunday Service on YouTube and Facebook Live or in-person!! \nJoin us in-person or join us on Facebook Live and YouTube Live this Sunday at 10:45 am! \nHow to watch LHChurch Online:\nFacebook and non-Facebook users: click here.\nNon-YouTube Users: click here.\nYouTube users: click here.
URL:https://www.lakehighlandschurch.org/event/sunday-service-2020-04-19-2023-04-02/
LOCATION:TX\, United States
CATEGORIES:Services
ATTACH;FMTTYPE=image/jpeg:https://www.lakehighlandschurch.org/wp-content/uploads/2020/04/Facebook-Live.jpg
ORGANIZER;CN="Lake Highlands Church":MAILTO:admin@lakehighlandschurch.org
END:VEVENT
BEGIN:VEVENT
DTSTART;TZID=America/Chicago:20230326T104500
DTEND;TZID=America/Chicago:20230326T120000
DTSTAMP:20260424T224359
CREATED:20200404T160846Z
LAST-MODIFIED:20200404T160846Z
UID:331716-1679827500-1679832000@www.lakehighlandschurch.org
SUMMARY:Sunday Service
DESCRIPTION:Sunday Service on YouTube and Facebook Live or in-person!! \nJoin us in-person or join us on Facebook Live and YouTube Live this Sunday at 10:45 am! \nHow to watch LHChurch Online:\nFacebook and non-Facebook users: click here.\nNon-YouTube Users: click here.\nYouTube users: click here.
URL:https://www.lakehighlandschurch.org/event/sunday-service-2020-04-19-2023-03-26/
LOCATION:TX\, United States
CATEGORIES:Services
ATTACH;FMTTYPE=image/jpeg:https://www.lakehighlandschurch.org/wp-content/uploads/2020/04/Facebook-Live.jpg
ORGANIZER;CN="Lake Highlands Church":MAILTO:admin@lakehighlandschurch.org
END:VEVENT
BEGIN:VEVENT
DTSTART;TZID=America/Chicago:20230319T104500
DTEND;TZID=America/Chicago:20230319T120000
DTSTAMP:20260424T224359
CREATED:20200404T160846Z
LAST-MODIFIED:20200404T160846Z
UID:331714-1679222700-1679227200@www.lakehighlandschurch.org
SUMMARY:Sunday Service
DESCRIPTION:Sunday Service on YouTube and Facebook Live or in-person!! \nJoin us in-person or join us on Facebook Live and YouTube Live this Sunday at 10:45 am! \nHow to watch LHChurch Online:\nFacebook and non-Facebook users: click here.\nNon-YouTube Users: click here.\nYouTube users: click here.
URL:https://www.lakehighlandschurch.org/event/sunday-service-2020-04-19-2023-03-19/
LOCATION:TX\, United States
CATEGORIES:Services
ATTACH;FMTTYPE=image/jpeg:https://www.lakehighlandschurch.org/wp-content/uploads/2020/04/Facebook-Live.jpg
ORGANIZER;CN="Lake Highlands Church":MAILTO:admin@lakehighlandschurch.org
END:VEVENT
BEGIN:VEVENT
DTSTART;TZID=America/Chicago:20230312T104500
DTEND;TZID=America/Chicago:20230312T120000
DTSTAMP:20260424T224359
CREATED:20200404T160846Z
LAST-MODIFIED:20200404T160846Z
UID:331712-1678617900-1678622400@www.lakehighlandschurch.org
SUMMARY:Sunday Service
DESCRIPTION:Sunday Service on YouTube and Facebook Live or in-person!! \nJoin us in-person or join us on Facebook Live and YouTube Live this Sunday at 10:45 am! \nHow to watch LHChurch Online:\nFacebook and non-Facebook users: click here.\nNon-YouTube Users: click here.\nYouTube users: click here.
URL:https://www.lakehighlandschurch.org/event/sunday-service-2020-04-19-2023-03-12/
LOCATION:TX\, United States
CATEGORIES:Services
ATTACH;FMTTYPE=image/jpeg:https://www.lakehighlandschurch.org/wp-content/uploads/2020/04/Facebook-Live.jpg
ORGANIZER;CN="Lake Highlands Church":MAILTO:admin@lakehighlandschurch.org
END:VEVENT
BEGIN:VEVENT
DTSTART;TZID=America/Chicago:20230305T104500
DTEND;TZID=America/Chicago:20230305T120000
DTSTAMP:20260424T224359
CREATED:20200404T160846Z
LAST-MODIFIED:20200404T160846Z
UID:331710-1678013100-1678017600@www.lakehighlandschurch.org
SUMMARY:Sunday Service
DESCRIPTION:Sunday Service on YouTube and Facebook Live or in-person!! \nJoin us in-person or join us on Facebook Live and YouTube Live this Sunday at 10:45 am! \nHow to watch LHChurch Online:\nFacebook and non-Facebook users: click here.\nNon-YouTube Users: click here.\nYouTube users: click here.
URL:https://www.lakehighlandschurch.org/event/sunday-service-2020-04-19-2023-03-05/
LOCATION:TX\, United States
CATEGORIES:Services
ATTACH;FMTTYPE=image/jpeg:https://www.lakehighlandschurch.org/wp-content/uploads/2020/04/Facebook-Live.jpg
ORGANIZER;CN="Lake Highlands Church":MAILTO:admin@lakehighlandschurch.org
END:VEVENT
BEGIN:VEVENT
DTSTART;TZID=America/Chicago:20230226T104500
DTEND;TZID=America/Chicago:20230226T120000
DTSTAMP:20260424T224359
CREATED:20200404T160846Z
LAST-MODIFIED:20200404T160846Z
UID:331708-1677408300-1677412800@www.lakehighlandschurch.org
SUMMARY:Sunday Service
DESCRIPTION:Sunday Service on YouTube and Facebook Live or in-person!! \nJoin us in-person or join us on Facebook Live and YouTube Live this Sunday at 10:45 am! \nHow to watch LHChurch Online:\nFacebook and non-Facebook users: click here.\nNon-YouTube Users: click here.\nYouTube users: click here.
URL:https://www.lakehighlandschurch.org/event/sunday-service-2020-04-19-2023-02-26/
LOCATION:TX\, United States
CATEGORIES:Services
ATTACH;FMTTYPE=image/jpeg:https://www.lakehighlandschurch.org/wp-content/uploads/2020/04/Facebook-Live.jpg
ORGANIZER;CN="Lake Highlands Church":MAILTO:admin@lakehighlandschurch.org
END:VEVENT
BEGIN:VEVENT
DTSTART;TZID=America/Chicago:20230219T104500
DTEND;TZID=America/Chicago:20230219T120000
DTSTAMP:20260424T224359
CREATED:20200404T160846Z
LAST-MODIFIED:20200404T160846Z
UID:331706-1676803500-1676808000@www.lakehighlandschurch.org
SUMMARY:Sunday Service
DESCRIPTION:Sunday Service on YouTube and Facebook Live or in-person!! \nJoin us in-person or join us on Facebook Live and YouTube Live this Sunday at 10:45 am! \nHow to watch LHChurch Online:\nFacebook and non-Facebook users: click here.\nNon-YouTube Users: click here.\nYouTube users: click here.
URL:https://www.lakehighlandschurch.org/event/sunday-service-2020-04-19-2023-02-19/
LOCATION:TX\, United States
CATEGORIES:Services
ATTACH;FMTTYPE=image/jpeg:https://www.lakehighlandschurch.org/wp-content/uploads/2020/04/Facebook-Live.jpg
ORGANIZER;CN="Lake Highlands Church":MAILTO:admin@lakehighlandschurch.org
END:VEVENT
BEGIN:VEVENT
DTSTART;TZID=America/Chicago:20230212T104500
DTEND;TZID=America/Chicago:20230212T120000
DTSTAMP:20260424T224359
CREATED:20200404T160846Z
LAST-MODIFIED:20200404T160846Z
UID:331704-1676198700-1676203200@www.lakehighlandschurch.org
SUMMARY:Sunday Service
DESCRIPTION:Sunday Service on YouTube and Facebook Live or in-person!! \nJoin us in-person or join us on Facebook Live and YouTube Live this Sunday at 10:45 am! \nHow to watch LHChurch Online:\nFacebook and non-Facebook users: click here.\nNon-YouTube Users: click here.\nYouTube users: click here.
URL:https://www.lakehighlandschurch.org/event/sunday-service-2020-04-19-2023-02-12/
LOCATION:TX\, United States
CATEGORIES:Services
ATTACH;FMTTYPE=image/jpeg:https://www.lakehighlandschurch.org/wp-content/uploads/2020/04/Facebook-Live.jpg
ORGANIZER;CN="Lake Highlands Church":MAILTO:admin@lakehighlandschurch.org
END:VEVENT
BEGIN:VEVENT
DTSTART;TZID=America/Chicago:20230205T104500
DTEND;TZID=America/Chicago:20230205T120000
DTSTAMP:20260424T224359
CREATED:20200404T160846Z
LAST-MODIFIED:20200404T160846Z
UID:331702-1675593900-1675598400@www.lakehighlandschurch.org
SUMMARY:Sunday Service
DESCRIPTION:Sunday Service on YouTube and Facebook Live or in-person!! \nJoin us in-person or join us on Facebook Live and YouTube Live this Sunday at 10:45 am! \nHow to watch LHChurch Online:\nFacebook and non-Facebook users: click here.\nNon-YouTube Users: click here.\nYouTube users: click here.
URL:https://www.lakehighlandschurch.org/event/sunday-service-2020-04-19-2023-02-05/
LOCATION:TX\, United States
CATEGORIES:Services
ATTACH;FMTTYPE=image/jpeg:https://www.lakehighlandschurch.org/wp-content/uploads/2020/04/Facebook-Live.jpg
ORGANIZER;CN="Lake Highlands Church":MAILTO:admin@lakehighlandschurch.org
END:VEVENT
BEGIN:VEVENT
DTSTART;TZID=America/Chicago:20230129T104500
DTEND;TZID=America/Chicago:20230129T120000
DTSTAMP:20260424T224359
CREATED:20200404T160846Z
LAST-MODIFIED:20200404T160846Z
UID:331700-1674989100-1674993600@www.lakehighlandschurch.org
SUMMARY:Sunday Service
DESCRIPTION:Sunday Service on YouTube and Facebook Live or in-person!! \nJoin us in-person or join us on Facebook Live and YouTube Live this Sunday at 10:45 am! \nHow to watch LHChurch Online:\nFacebook and non-Facebook users: click here.\nNon-YouTube Users: click here.\nYouTube users: click here.
URL:https://www.lakehighlandschurch.org/event/sunday-service-2020-04-19-2023-01-29/
LOCATION:TX\, United States
CATEGORIES:Services
ATTACH;FMTTYPE=image/jpeg:https://www.lakehighlandschurch.org/wp-content/uploads/2020/04/Facebook-Live.jpg
ORGANIZER;CN="Lake Highlands Church":MAILTO:admin@lakehighlandschurch.org
END:VEVENT
BEGIN:VEVENT
DTSTART;TZID=America/Chicago:20230122T104500
DTEND;TZID=America/Chicago:20230122T120000
DTSTAMP:20260424T224359
CREATED:20200404T160846Z
LAST-MODIFIED:20200404T160846Z
UID:331698-1674384300-1674388800@www.lakehighlandschurch.org
SUMMARY:Sunday Service
DESCRIPTION:Sunday Service on YouTube and Facebook Live or in-person!! \nJoin us in-person or join us on Facebook Live and YouTube Live this Sunday at 10:45 am! \nHow to watch LHChurch Online:\nFacebook and non-Facebook users: click here.\nNon-YouTube Users: click here.\nYouTube users: click here.
URL:https://www.lakehighlandschurch.org/event/sunday-service-2020-04-19-2023-01-22/
LOCATION:TX\, United States
CATEGORIES:Services
ATTACH;FMTTYPE=image/jpeg:https://www.lakehighlandschurch.org/wp-content/uploads/2020/04/Facebook-Live.jpg
ORGANIZER;CN="Lake Highlands Church":MAILTO:admin@lakehighlandschurch.org
END:VEVENT
BEGIN:VEVENT
DTSTART;TZID=America/Chicago:20230115T104500
DTEND;TZID=America/Chicago:20230115T120000
DTSTAMP:20260424T224359
CREATED:20200404T160846Z
LAST-MODIFIED:20200404T160846Z
UID:331695-1673779500-1673784000@www.lakehighlandschurch.org
SUMMARY:Sunday Service
DESCRIPTION:Sunday Service on YouTube and Facebook Live or in-person!! \nJoin us in-person or join us on Facebook Live and YouTube Live this Sunday at 10:45 am! \nHow to watch LHChurch Online:\nFacebook and non-Facebook users: click here.\nNon-YouTube Users: click here.\nYouTube users: click here.
URL:https://www.lakehighlandschurch.org/event/sunday-service-2020-04-19-2023-01-15/
LOCATION:TX\, United States
CATEGORIES:Services
ATTACH;FMTTYPE=image/jpeg:https://www.lakehighlandschurch.org/wp-content/uploads/2020/04/Facebook-Live.jpg
ORGANIZER;CN="Lake Highlands Church":MAILTO:admin@lakehighlandschurch.org
END:VEVENT
BEGIN:VEVENT
DTSTART;TZID=America/Chicago:20230108T104500
DTEND;TZID=America/Chicago:20230108T120000
DTSTAMP:20260424T224359
CREATED:20200404T160846Z
LAST-MODIFIED:20200404T160846Z
UID:331689-1673174700-1673179200@www.lakehighlandschurch.org
SUMMARY:Sunday Service
DESCRIPTION:Sunday Service on YouTube and Facebook Live or in-person!! \nJoin us in-person or join us on Facebook Live and YouTube Live this Sunday at 10:45 am! \nHow to watch LHChurch Online:\nFacebook and non-Facebook users: click here.\nNon-YouTube Users: click here.\nYouTube users: click here.
URL:https://www.lakehighlandschurch.org/event/sunday-service-2020-04-19-2023-01-08/
LOCATION:TX\, United States
CATEGORIES:Services
ATTACH;FMTTYPE=image/jpeg:https://www.lakehighlandschurch.org/wp-content/uploads/2020/04/Facebook-Live.jpg
ORGANIZER;CN="Lake Highlands Church":MAILTO:admin@lakehighlandschurch.org
END:VEVENT
BEGIN:VEVENT
DTSTART;TZID=America/Chicago:20230101T104500
DTEND;TZID=America/Chicago:20230101T120000
DTSTAMP:20260424T224359
CREATED:20200404T160846Z
LAST-MODIFIED:20200404T160846Z
UID:331687-1672569900-1672574400@www.lakehighlandschurch.org
SUMMARY:Sunday Service
DESCRIPTION:Sunday Service on YouTube and Facebook Live or in-person!! \nJoin us in-person or join us on Facebook Live and YouTube Live this Sunday at 10:45 am! \nHow to watch LHChurch Online:\nFacebook and non-Facebook users: click here.\nNon-YouTube Users: click here.\nYouTube users: click here.
URL:https://www.lakehighlandschurch.org/event/sunday-service-2020-04-19-2023-01-01/
LOCATION:TX\, United States
CATEGORIES:Services
ATTACH;FMTTYPE=image/jpeg:https://www.lakehighlandschurch.org/wp-content/uploads/2020/04/Facebook-Live.jpg
ORGANIZER;CN="Lake Highlands Church":MAILTO:admin@lakehighlandschurch.org
END:VEVENT
BEGIN:VEVENT
DTSTART;TZID=America/Chicago:20221225T104500
DTEND;TZID=America/Chicago:20221225T120000
DTSTAMP:20260424T224359
CREATED:20200404T160846Z
LAST-MODIFIED:20200404T160846Z
UID:331685-1671965100-1671969600@www.lakehighlandschurch.org
SUMMARY:Sunday Service
DESCRIPTION:Sunday Service on YouTube and Facebook Live or in-person!! \nJoin us in-person or join us on Facebook Live and YouTube Live this Sunday at 10:45 am! \nHow to watch LHChurch Online:\nFacebook and non-Facebook users: click here.\nNon-YouTube Users: click here.\nYouTube users: click here.
URL:https://www.lakehighlandschurch.org/event/sunday-service-2020-04-19-2022-12-25/
LOCATION:TX\, United States
CATEGORIES:Services
ATTACH;FMTTYPE=image/jpeg:https://www.lakehighlandschurch.org/wp-content/uploads/2020/04/Facebook-Live.jpg
ORGANIZER;CN="Lake Highlands Church":MAILTO:admin@lakehighlandschurch.org
END:VEVENT
BEGIN:VEVENT
DTSTART;TZID=America/Chicago:20221218T104500
DTEND;TZID=America/Chicago:20221218T120000
DTSTAMP:20260424T224359
CREATED:20200404T160846Z
LAST-MODIFIED:20200404T160846Z
UID:331682-1671360300-1671364800@www.lakehighlandschurch.org
SUMMARY:Sunday Service
DESCRIPTION:Sunday Service on YouTube and Facebook Live or in-person!! \nJoin us in-person or join us on Facebook Live and YouTube Live this Sunday at 10:45 am! \nHow to watch LHChurch Online:\nFacebook and non-Facebook users: click here.\nNon-YouTube Users: click here.\nYouTube users: click here.
URL:https://www.lakehighlandschurch.org/event/sunday-service-2020-04-19-2022-12-18/
LOCATION:TX\, United States
CATEGORIES:Services
ATTACH;FMTTYPE=image/jpeg:https://www.lakehighlandschurch.org/wp-content/uploads/2020/04/Facebook-Live.jpg
ORGANIZER;CN="Lake Highlands Church":MAILTO:admin@lakehighlandschurch.org
END:VEVENT
BEGIN:VEVENT
DTSTART;TZID=America/Chicago:20221211T104500
DTEND;TZID=America/Chicago:20221211T120000
DTSTAMP:20260424T224359
CREATED:20200404T160846Z
LAST-MODIFIED:20200404T160846Z
UID:331679-1670755500-1670760000@www.lakehighlandschurch.org
SUMMARY:Sunday Service
DESCRIPTION:Sunday Service on YouTube and Facebook Live or in-person!! \nJoin us in-person or join us on Facebook Live and YouTube Live this Sunday at 10:45 am! \nHow to watch LHChurch Online:\nFacebook and non-Facebook users: click here.\nNon-YouTube Users: click here.\nYouTube users: click here.
URL:https://www.lakehighlandschurch.org/event/sunday-service-2020-04-19-2022-12-11/
LOCATION:TX\, United States
CATEGORIES:Services
ATTACH;FMTTYPE=image/jpeg:https://www.lakehighlandschurch.org/wp-content/uploads/2020/04/Facebook-Live.jpg
ORGANIZER;CN="Lake Highlands Church":MAILTO:admin@lakehighlandschurch.org
END:VEVENT
BEGIN:VEVENT
DTSTART;TZID=America/Chicago:20221204T104500
DTEND;TZID=America/Chicago:20221204T120000
DTSTAMP:20260424T224359
CREATED:20200404T160846Z
LAST-MODIFIED:20200404T160846Z
UID:331676-1670150700-1670155200@www.lakehighlandschurch.org
SUMMARY:Sunday Service
DESCRIPTION:Sunday Service on YouTube and Facebook Live or in-person!! \nJoin us in-person or join us on Facebook Live and YouTube Live this Sunday at 10:45 am! \nHow to watch LHChurch Online:\nFacebook and non-Facebook users: click here.\nNon-YouTube Users: click here.\nYouTube users: click here.
URL:https://www.lakehighlandschurch.org/event/sunday-service-2020-04-19-2022-12-04/
LOCATION:TX\, United States
CATEGORIES:Services
ATTACH;FMTTYPE=image/jpeg:https://www.lakehighlandschurch.org/wp-content/uploads/2020/04/Facebook-Live.jpg
ORGANIZER;CN="Lake Highlands Church":MAILTO:admin@lakehighlandschurch.org
END:VEVENT
BEGIN:VEVENT
DTSTART;TZID=America/Chicago:20221127T104500
DTEND;TZID=America/Chicago:20221127T120000
DTSTAMP:20260424T224359
CREATED:20200404T160846Z
LAST-MODIFIED:20200404T160846Z
UID:331670-1669545900-1669550400@www.lakehighlandschurch.org
SUMMARY:Sunday Service
DESCRIPTION:Sunday Service on YouTube and Facebook Live or in-person!! \nJoin us in-person or join us on Facebook Live and YouTube Live this Sunday at 10:45 am! \nHow to watch LHChurch Online:\nFacebook and non-Facebook users: click here.\nNon-YouTube Users: click here.\nYouTube users: click here.
URL:https://www.lakehighlandschurch.org/event/sunday-service-2020-04-19-2022-11-27/
LOCATION:TX\, United States
CATEGORIES:Services
ATTACH;FMTTYPE=image/jpeg:https://www.lakehighlandschurch.org/wp-content/uploads/2020/04/Facebook-Live.jpg
ORGANIZER;CN="Lake Highlands Church":MAILTO:admin@lakehighlandschurch.org
END:VEVENT
BEGIN:VEVENT
DTSTART;TZID=America/Chicago:20221120T104500
DTEND;TZID=America/Chicago:20221120T120000
DTSTAMP:20260424T224359
CREATED:20200404T160846Z
LAST-MODIFIED:20200404T160846Z
UID:331668-1668941100-1668945600@www.lakehighlandschurch.org
SUMMARY:Sunday Service
DESCRIPTION:Sunday Service on YouTube and Facebook Live or in-person!! \nJoin us in-person or join us on Facebook Live and YouTube Live this Sunday at 10:45 am! \nHow to watch LHChurch Online:\nFacebook and non-Facebook users: click here.\nNon-YouTube Users: click here.\nYouTube users: click here.
URL:https://www.lakehighlandschurch.org/event/sunday-service-2020-04-19-2022-11-20/
LOCATION:TX\, United States
CATEGORIES:Services
ATTACH;FMTTYPE=image/jpeg:https://www.lakehighlandschurch.org/wp-content/uploads/2020/04/Facebook-Live.jpg
ORGANIZER;CN="Lake Highlands Church":MAILTO:admin@lakehighlandschurch.org
END:VEVENT
BEGIN:VEVENT
DTSTART;TZID=America/Chicago:20221113T104500
DTEND;TZID=America/Chicago:20221113T120000
DTSTAMP:20260424T224359
CREATED:20200404T160846Z
LAST-MODIFIED:20200404T160846Z
UID:331664-1668336300-1668340800@www.lakehighlandschurch.org
SUMMARY:Sunday Service
DESCRIPTION:Sunday Service on YouTube and Facebook Live or in-person!! \nJoin us in-person or join us on Facebook Live and YouTube Live this Sunday at 10:45 am! \nHow to watch LHChurch Online:\nFacebook and non-Facebook users: click here.\nNon-YouTube Users: click here.\nYouTube users: click here.
URL:https://www.lakehighlandschurch.org/event/sunday-service-2020-04-19-2022-11-13/
LOCATION:TX\, United States
CATEGORIES:Services
ATTACH;FMTTYPE=image/jpeg:https://www.lakehighlandschurch.org/wp-content/uploads/2020/04/Facebook-Live.jpg
ORGANIZER;CN="Lake Highlands Church":MAILTO:admin@lakehighlandschurch.org
END:VEVENT
BEGIN:VEVENT
DTSTART;TZID=America/Chicago:20221106T104500
DTEND;TZID=America/Chicago:20221106T120000
DTSTAMP:20260424T224359
CREATED:20200404T160846Z
LAST-MODIFIED:20200404T160846Z
UID:331662-1667731500-1667736000@www.lakehighlandschurch.org
SUMMARY:Sunday Service
DESCRIPTION:Sunday Service on YouTube and Facebook Live or in-person!! \nJoin us in-person or join us on Facebook Live and YouTube Live this Sunday at 10:45 am! \nHow to watch LHChurch Online:\nFacebook and non-Facebook users: click here.\nNon-YouTube Users: click here.\nYouTube users: click here.
URL:https://www.lakehighlandschurch.org/event/sunday-service-2020-04-19-2022-11-06/
LOCATION:TX\, United States
CATEGORIES:Services
ATTACH;FMTTYPE=image/jpeg:https://www.lakehighlandschurch.org/wp-content/uploads/2020/04/Facebook-Live.jpg
ORGANIZER;CN="Lake Highlands Church":MAILTO:admin@lakehighlandschurch.org
END:VEVENT
BEGIN:VEVENT
DTSTART;TZID=America/Chicago:20221030T104500
DTEND;TZID=America/Chicago:20221030T120000
DTSTAMP:20260424T224359
CREATED:20200404T160846Z
LAST-MODIFIED:20200404T160846Z
UID:331660-1667126700-1667131200@www.lakehighlandschurch.org
SUMMARY:Sunday Service
DESCRIPTION:Sunday Service on YouTube and Facebook Live or in-person!! \nJoin us in-person or join us on Facebook Live and YouTube Live this Sunday at 10:45 am! \nHow to watch LHChurch Online:\nFacebook and non-Facebook users: click here.\nNon-YouTube Users: click here.\nYouTube users: click here.
URL:https://www.lakehighlandschurch.org/event/sunday-service-2020-04-19-2022-10-30/
LOCATION:TX\, United States
CATEGORIES:Services
ATTACH;FMTTYPE=image/jpeg:https://www.lakehighlandschurch.org/wp-content/uploads/2020/04/Facebook-Live.jpg
ORGANIZER;CN="Lake Highlands Church":MAILTO:admin@lakehighlandschurch.org
END:VEVENT
BEGIN:VEVENT
DTSTART;TZID=America/Chicago:20221023T104500
DTEND;TZID=America/Chicago:20221023T120000
DTSTAMP:20260424T224359
CREATED:20200404T160846Z
LAST-MODIFIED:20200404T160846Z
UID:331657-1666521900-1666526400@www.lakehighlandschurch.org
SUMMARY:Sunday Service
DESCRIPTION:Sunday Service on YouTube and Facebook Live or in-person!! \nJoin us in-person or join us on Facebook Live and YouTube Live this Sunday at 10:45 am! \nHow to watch LHChurch Online:\nFacebook and non-Facebook users: click here.\nNon-YouTube Users: click here.\nYouTube users: click here.
URL:https://www.lakehighlandschurch.org/event/sunday-service-2020-04-19-2022-10-23/
LOCATION:TX\, United States
CATEGORIES:Services
ATTACH;FMTTYPE=image/jpeg:https://www.lakehighlandschurch.org/wp-content/uploads/2020/04/Facebook-Live.jpg
ORGANIZER;CN="Lake Highlands Church":MAILTO:admin@lakehighlandschurch.org
END:VEVENT
BEGIN:VEVENT
DTSTART;TZID=America/Chicago:20221016T104500
DTEND;TZID=America/Chicago:20221016T120000
DTSTAMP:20260424T224359
CREATED:20200404T160846Z
LAST-MODIFIED:20200404T160846Z
UID:331651-1665917100-1665921600@www.lakehighlandschurch.org
SUMMARY:Sunday Service
DESCRIPTION:Sunday Service on YouTube and Facebook Live or in-person!! \nJoin us in-person or join us on Facebook Live and YouTube Live this Sunday at 10:45 am! \nHow to watch LHChurch Online:\nFacebook and non-Facebook users: click here.\nNon-YouTube Users: click here.\nYouTube users: click here.
URL:https://www.lakehighlandschurch.org/event/sunday-service-2020-04-19-2022-10-16/
LOCATION:TX\, United States
CATEGORIES:Services
ATTACH;FMTTYPE=image/jpeg:https://www.lakehighlandschurch.org/wp-content/uploads/2020/04/Facebook-Live.jpg
ORGANIZER;CN="Lake Highlands Church":MAILTO:admin@lakehighlandschurch.org
END:VEVENT
BEGIN:VEVENT
DTSTART;TZID=America/Chicago:20221009T104500
DTEND;TZID=America/Chicago:20221009T120000
DTSTAMP:20260424T224359
CREATED:20200404T160846Z
LAST-MODIFIED:20200404T160846Z
UID:331648-1665312300-1665316800@www.lakehighlandschurch.org
SUMMARY:Sunday Service
DESCRIPTION:Sunday Service on YouTube and Facebook Live or in-person!! \nJoin us in-person or join us on Facebook Live and YouTube Live this Sunday at 10:45 am! \nHow to watch LHChurch Online:\nFacebook and non-Facebook users: click here.\nNon-YouTube Users: click here.\nYouTube users: click here.
URL:https://www.lakehighlandschurch.org/event/sunday-service-2020-04-19-2022-10-09/
LOCATION:TX\, United States
CATEGORIES:Services
ATTACH;FMTTYPE=image/jpeg:https://www.lakehighlandschurch.org/wp-content/uploads/2020/04/Facebook-Live.jpg
ORGANIZER;CN="Lake Highlands Church":MAILTO:admin@lakehighlandschurch.org
END:VEVENT
BEGIN:VEVENT
DTSTART;TZID=America/Chicago:20221002T104500
DTEND;TZID=America/Chicago:20221002T120000
DTSTAMP:20260424T224359
CREATED:20200404T160846Z
LAST-MODIFIED:20200404T160846Z
UID:331645-1664707500-1664712000@www.lakehighlandschurch.org
SUMMARY:Sunday Service
DESCRIPTION:Sunday Service on YouTube and Facebook Live or in-person!! \nJoin us in-person or join us on Facebook Live and YouTube Live this Sunday at 10:45 am! \nHow to watch LHChurch Online:\nFacebook and non-Facebook users: click here.\nNon-YouTube Users: click here.\nYouTube users: click here.
URL:https://www.lakehighlandschurch.org/event/sunday-service-2020-04-19-2022-10-02/
LOCATION:TX\, United States
CATEGORIES:Services
ATTACH;FMTTYPE=image/jpeg:https://www.lakehighlandschurch.org/wp-content/uploads/2020/04/Facebook-Live.jpg
ORGANIZER;CN="Lake Highlands Church":MAILTO:admin@lakehighlandschurch.org
END:VEVENT
BEGIN:VEVENT
DTSTART;TZID=America/Chicago:20220925T104500
DTEND;TZID=America/Chicago:20220925T120000
DTSTAMP:20260424T224359
CREATED:20200404T160846Z
LAST-MODIFIED:20200404T160846Z
UID:331642-1664102700-1664107200@www.lakehighlandschurch.org
SUMMARY:Sunday Service
DESCRIPTION:Sunday Service on YouTube and Facebook Live or in-person!! \nJoin us in-person or join us on Facebook Live and YouTube Live this Sunday at 10:45 am! \nHow to watch LHChurch Online:\nFacebook and non-Facebook users: click here.\nNon-YouTube Users: click here.\nYouTube users: click here.
URL:https://www.lakehighlandschurch.org/event/sunday-service-2020-04-19-2022-09-25/
LOCATION:TX\, United States
CATEGORIES:Services
ATTACH;FMTTYPE=image/jpeg:https://www.lakehighlandschurch.org/wp-content/uploads/2020/04/Facebook-Live.jpg
ORGANIZER;CN="Lake Highlands Church":MAILTO:admin@lakehighlandschurch.org
END:VEVENT
BEGIN:VEVENT
DTSTART;TZID=America/Chicago:20220918T104500
DTEND;TZID=America/Chicago:20220918T120000
DTSTAMP:20260424T224359
CREATED:20200404T160846Z
LAST-MODIFIED:20200404T160846Z
UID:331639-1663497900-1663502400@www.lakehighlandschurch.org
SUMMARY:Sunday Service
DESCRIPTION:Sunday Service on YouTube and Facebook Live or in-person!! \nJoin us in-person or join us on Facebook Live and YouTube Live this Sunday at 10:45 am! \nHow to watch LHChurch Online:\nFacebook and non-Facebook users: click here.\nNon-YouTube Users: click here.\nYouTube users: click here.
URL:https://www.lakehighlandschurch.org/event/sunday-service-2020-04-19-2022-09-18/
LOCATION:TX\, United States
CATEGORIES:Services
ATTACH;FMTTYPE=image/jpeg:https://www.lakehighlandschurch.org/wp-content/uploads/2020/04/Facebook-Live.jpg
ORGANIZER;CN="Lake Highlands Church":MAILTO:admin@lakehighlandschurch.org
END:VEVENT
BEGIN:VEVENT
DTSTART;TZID=America/Chicago:20220911T104500
DTEND;TZID=America/Chicago:20220911T120000
DTSTAMP:20260424T224359
CREATED:20200404T160846Z
LAST-MODIFIED:20200404T160846Z
UID:331636-1662893100-1662897600@www.lakehighlandschurch.org
SUMMARY:Sunday Service
DESCRIPTION:Sunday Service on YouTube and Facebook Live or in-person!! \nJoin us in-person or join us on Facebook Live and YouTube Live this Sunday at 10:45 am! \nHow to watch LHChurch Online:\nFacebook and non-Facebook users: click here.\nNon-YouTube Users: click here.\nYouTube users: click here.
URL:https://www.lakehighlandschurch.org/event/sunday-service-2020-04-19-2022-09-11/
LOCATION:TX\, United States
CATEGORIES:Services
ATTACH;FMTTYPE=image/jpeg:https://www.lakehighlandschurch.org/wp-content/uploads/2020/04/Facebook-Live.jpg
ORGANIZER;CN="Lake Highlands Church":MAILTO:admin@lakehighlandschurch.org
END:VEVENT
END:VCALENDAR